BEGIN:VCALENDAR
VERSION:2.0
PRODID:icalendar-ruby
CALSCALE:GREGORIAN
METHOD:PUBLISH
BEGIN:VTIMEZONE
TZID:Pacific/Auckland
BEGIN:DAYLIGHT
DTSTART:20260927T030000
TZOFFSETFROM:+1200
TZOFFSETTO:+1300
RRULE:FREQ=YEARLY;BYDAY=-1SU;BYMONTH=9
TZNAME:NZDT
END:DAYLIGHT
BEGIN:STANDARD
DTSTART:20260405T020000
TZOFFSETFROM:+1300
TZOFFSETTO:+1200
RRULE:FREQ=YEARLY;BYDAY=1SU;BYMONTH=4
TZNAME:NZST
END:STANDARD
END:VTIMEZONE
BEGIN:VEVENT
DTSTAMP:20260426T033137Z
UID:inspection_3003579
DTSTART;TZID=Pacific/Auckland:20260426T124500
DTEND;TZID=Pacific/Auckland:20260426T131500
CLASS:PUBLIC
CREATED:20260419T200329
DESCRIPTION: 
LAST-MODIFIED:20260419T200329
LOCATION:72 Victoria Street\, HAWERA\, SOUTH TARANAKI\, TARANAKI\, New Zeal
 and
SUMMARY:72 Victoria Street\,  Inspection
URL;VALUE=URI:http://www.smithbishop.co.nz/
END:VEVENT
END:VCALENDAR
