BEGIN:VCALENDAR
VERSION:2.0
PRODID:icalendar-ruby
CALSCALE:GREGORIAN
METHOD:PUBLISH
BEGIN:VTIMEZONE
TZID:Pacific/Auckland
BEGIN:DAYLIGHT
DTSTART:20260927T030000
TZOFFSETFROM:+1200
TZOFFSETTO:+1300
RRULE:FREQ=YEARLY;BYDAY=-1SU;BYMONTH=9
TZNAME:NZDT
END:DAYLIGHT
BEGIN:STANDARD
DTSTART:20260405T020000
TZOFFSETFROM:+1300
TZOFFSETTO:+1200
RRULE:FREQ=YEARLY;BYDAY=1SU;BYMONTH=4
TZNAME:NZST
END:STANDARD
END:VTIMEZONE
BEGIN:VEVENT
DTSTAMP:20260426T032244Z
UID:inspection_3003578
DTSTART;TZID=Pacific/Auckland:20260426T114500
DTEND;TZID=Pacific/Auckland:20260426T121500
CLASS:PUBLIC
CREATED:20260419T200259
DESCRIPTION: 
LAST-MODIFIED:20260419T200259
LOCATION:32 Wynyard Street\, NORMANBY\, SOUTH TARANAKI\, TARANAKI\, New Zea
 land
SUMMARY:32 Wynyard Street\,  Inspection
URL;VALUE=URI:http://www.smithbishop.co.nz/
END:VEVENT
END:VCALENDAR
